Package: rGREAT Version: 2.13.0 Command: /home/biocbuild/bbs-3.23-bioc/R/bin/R CMD build --keep-empty-dirs --no-resave-data rGREAT StartedAt: 2025-11-04 19:30:26 -0500 (Tue, 04 Nov 2025) EndedAt: 2025-11-04 19:31:13 -0500 (Tue, 04 Nov 2025) EllapsedTime: 47.0 seconds RetCode: 0 Status: OK PackageFile: rGREAT_2.13.0.tar.gz PackageFileSize: 2.754 MiB