Package: rGREAT Version: 2.11.0 Command: /Library/Frameworks/R.framework/Resources/bin/R CMD INSTALL rGREAT StartedAt: 2025-10-10 15:55:44 -0400 (Fri, 10 Oct 2025) EndedAt: 2025-10-10 15:56:47 -0400 (Fri, 10 Oct 2025) EllapsedTime: 62.9 seconds RetCode: 0 Status: OK