Package: rGREAT Version: 2.11.0 Command: /Library/Frameworks/R.framework/Resources/bin/R CMD build --keep-empty-dirs --no-resave-data rGREAT StartedAt: 2025-10-10 18:53:51 -0400 (Fri, 10 Oct 2025) EndedAt: 2025-10-10 18:54:52 -0400 (Fri, 10 Oct 2025) EllapsedTime: 60.9 seconds RetCode: 0 Status: OK PackageFile: rGREAT_2.11.0.tar.gz PackageFileSize: 2.754 MiB