Package: rGREAT Version: 2.11.0 Command: rm -rf rGREAT.buildbin-libdir && mkdir rGREAT.buildbin-libdir && /Users/biocbuild/BBS/utils/build-universal.sh rGREAT_2.11.0.tar.gz /Library/Frameworks/R.framework/Resources/bin/R rGREAT.buildbin-libdir StartedAt: 2025-10-11 02:48:48 -0400 (Sat, 11 Oct 2025) EndedAt: 2025-10-11 02:49:56 -0400 (Sat, 11 Oct 2025) EllapsedTime: 67.8 seconds RetCode: 0 Status: OK PackageFile: rGREAT_2.11.0.tgz PackageFileSize: 3.43 MiB