Package: rGADEM Version: 2.57.1 Command: /Library/Frameworks/R.framework/Resources/bin/R CMD INSTALL rGADEM StartedAt: 2025-10-10 15:35:20 -0400 (Fri, 10 Oct 2025) EndedAt: 2025-10-10 15:36:25 -0400 (Fri, 10 Oct 2025) EllapsedTime: 64.7 seconds RetCode: 0 Status: OK