Package: rGADEM Version: 2.57.1 Command: /Library/Frameworks/R.framework/Resources/bin/R CMD build --keep-empty-dirs --no-resave-data rGADEM StartedAt: 2025-10-12 18:52:35 -0400 (Sun, 12 Oct 2025) EndedAt: 2025-10-12 18:54:11 -0400 (Sun, 12 Oct 2025) EllapsedTime: 96.4 seconds RetCode: 0 Status: OK PackageFile: rGADEM_2.57.1.tar.gz PackageFileSize: 376.9 KiB