Package: rCGH Version: 1.41.0 Command: /home/biocbuild/bbs-3.23-bioc/R/bin/R CMD INSTALL rCGH StartedAt: 2025-11-06 15:59:48 -0500 (Thu, 06 Nov 2025) EndedAt: 2025-11-06 16:00:34 -0500 (Thu, 06 Nov 2025) EllapsedTime: 45.4 seconds RetCode: 0 Status: OK