Package: rCGH Version: 1.41.0 Command: /home/biocbuild/bbs-3.23-bioc/R/bin/R CMD build --keep-empty-dirs --no-resave-data rCGH StartedAt: 2025-11-06 19:25:24 -0500 (Thu, 06 Nov 2025) EndedAt: 2025-11-06 19:26:57 -0500 (Thu, 06 Nov 2025) EllapsedTime: 93.1 seconds RetCode: 0 Status: OK PackageFile: rCGH_1.41.0.tar.gz PackageFileSize: 4.034 MiB