Package: rCGH Version: 1.39.1 Command: /Library/Frameworks/R.framework/Resources/bin/R CMD INSTALL rCGH StartedAt: 2025-10-12 15:32:08 -0400 (Sun, 12 Oct 2025) EndedAt: 2025-10-12 15:32:26 -0400 (Sun, 12 Oct 2025) EllapsedTime: 17.9 seconds RetCode: 0 Status: OK