Package: rCGH Version: 1.39.1 Command: /Library/Frameworks/R.framework/Resources/bin/R CMD build --keep-empty-dirs --no-resave-data rCGH StartedAt: 2025-10-12 17:24:41 -0400 (Sun, 12 Oct 2025) EndedAt: 2025-10-12 17:25:22 -0400 (Sun, 12 Oct 2025) EllapsedTime: 41.5 seconds RetCode: 0 Status: OK PackageFile: rCGH_1.39.1.tar.gz PackageFileSize: 3.786 MiB