Package: rCGH Version: 1.39.1 Command: rm -rf rCGH.buildbin-libdir && mkdir rCGH.buildbin-libdir && /Users/biocbuild/BBS/utils/build-universal.sh rCGH_1.39.1.tar.gz /Library/Frameworks/R.framework/Resources/bin/R rCGH.buildbin-libdir StartedAt: 2025-10-12 22:49:38 -0400 (Sun, 12 Oct 2025) EndedAt: 2025-10-12 22:49:58 -0400 (Sun, 12 Oct 2025) EllapsedTime: 19.5 seconds RetCode: 0 Status: OK PackageFile: rCGH_1.39.1.tgz PackageFileSize: 4.892 MiB