Package: rBLAST Version: 1.7.0 Command: /home/biocbuild/bbs-3.23-bioc/R/bin/R CMD build --keep-empty-dirs --no-resave-data rBLAST StartedAt: 2025-11-20 19:30:33 -0500 (Thu, 20 Nov 2025) EndedAt: 2025-11-20 19:30:46 -0500 (Thu, 20 Nov 2025) EllapsedTime: 13.1 seconds RetCode: 0 Status: OK PackageFile: rBLAST_1.7.0.tar.gz PackageFileSize: 24.88 KiB