Package: rBLAST Version: 1.6.0 Command: /Library/Frameworks/R.framework/Resources/bin/R CMD INSTALL rBLAST StartedAt: 2025-10-29 22:01:57 -0400 (Wed, 29 Oct 2025) EndedAt: 2025-10-29 22:02:11 -0400 (Wed, 29 Oct 2025) EllapsedTime: 13.7 seconds RetCode: 0 Status: OK