Package: rBLAST Version: 1.6.0 Command: /Library/Frameworks/R.framework/Resources/bin/R CMD build --keep-empty-dirs --no-resave-data rBLAST StartedAt: 2025-10-30 01:02:40 -0400 (Thu, 30 Oct 2025) EndedAt: 2025-10-30 01:02:59 -0400 (Thu, 30 Oct 2025) EllapsedTime: 19.1 seconds RetCode: 0 Status: OK PackageFile: rBLAST_1.6.0.tar.gz PackageFileSize: 24.67 KiB