Package: rBLAST Version: 1.6.0 Command: rm -rf rBLAST.buildbin-libdir && mkdir rBLAST.buildbin-libdir && /Users/biocbuild/BBS/utils/build-universal.sh rBLAST_1.6.0.tar.gz /Library/Frameworks/R.framework/Resources/bin/R rBLAST.buildbin-libdir StartedAt: 2025-10-30 08:33:17 -0400 (Thu, 30 Oct 2025) EndedAt: 2025-10-30 08:33:33 -0400 (Thu, 30 Oct 2025) EllapsedTime: 16.4 seconds RetCode: 0 Status: OK PackageFile: rBLAST_1.6.0.tgz PackageFileSize: 49.55 KiB