Package: rBLAST Version: 1.5.0 Command: /Library/Frameworks/R.framework/Resources/bin/R CMD build --keep-empty-dirs --no-resave-data rBLAST StartedAt: 2025-10-09 17:26:20 -0400 (Thu, 09 Oct 2025) EndedAt: 2025-10-09 17:26:27 -0400 (Thu, 09 Oct 2025) EllapsedTime: 7.1 seconds RetCode: 0 Status: OK PackageFile: rBLAST_1.5.0.tar.gz PackageFileSize: 24.63 KiB