Package: r3Cseq Version: 1.57.0 Command: /home/biocbuild/bbs-3.23-bioc/R/bin/R CMD INSTALL r3Cseq StartedAt: 2025-11-03 15:29:41 -0500 (Mon, 03 Nov 2025) EndedAt: 2025-11-03 15:30:25 -0500 (Mon, 03 Nov 2025) EllapsedTime: 43.5 seconds RetCode: 0 Status: OK