Package: r3Cseq Version: 1.57.0 Command: /home/biocbuild/bbs-3.23-bioc/R/bin/R CMD check --install=check:r3Cseq.install-out.txt --library=/home/biocbuild/bbs-3.23-bioc/R/site-library --timings r3Cseq_1.57.0.tar.gz StartedAt: 2025-11-06 02:54:17 -0500 (Thu, 06 Nov 2025) EndedAt: 2025-11-06 03:00:04 -0500 (Thu, 06 Nov 2025) EllapsedTime: 346.7 seconds RetCode: 0 Status: OK CheckDir: r3Cseq.Rcheck Warnings: 0