Package: r3Cseq Version: 1.57.0 Command: /home/biocbuild/bbs-3.23-bioc/R/bin/R CMD build --keep-empty-dirs --no-resave-data r3Cseq StartedAt: 2025-11-03 19:19:07 -0500 (Mon, 03 Nov 2025) EndedAt: 2025-11-03 19:21:11 -0500 (Mon, 03 Nov 2025) EllapsedTime: 123.1 seconds RetCode: 0 Status: OK PackageFile: r3Cseq_1.57.0.tar.gz PackageFileSize: 4.327 MiB