Package: r3Cseq Version: 1.55.1 Command: /Library/Frameworks/R.framework/Resources/bin/R CMD check --install=check:r3Cseq.install-out.txt --library=/Library/Frameworks/R.framework/Resources/library --no-vignettes --timings r3Cseq_1.55.1.tar.gz StartedAt: 2025-10-28 21:30:17 -0400 (Tue, 28 Oct 2025) EndedAt: 2025-10-28 21:32:00 -0400 (Tue, 28 Oct 2025) EllapsedTime: 103.3 seconds RetCode: 0 Status: OK CheckDir: r3Cseq.Rcheck Warnings: 0