Package: qvalue Version: 2.43.0 Command: /home/biocbuild/bbs-3.23-bioc/R/bin/R CMD INSTALL qvalue StartedAt: 2025-11-02 15:14:01 -0500 (Sun, 02 Nov 2025) EndedAt: 2025-11-02 15:14:13 -0500 (Sun, 02 Nov 2025) EllapsedTime: 11.7 seconds RetCode: 0 Status: OK