Package: qvalue Version: 2.43.0 Command: /home/biocbuild/bbs-3.23-bioc/R/bin/R CMD build --keep-empty-dirs --no-resave-data qvalue StartedAt: 2025-11-02 19:22:06 -0500 (Sun, 02 Nov 2025) EndedAt: 2025-11-02 19:22:20 -0500 (Sun, 02 Nov 2025) EllapsedTime: 14.0 seconds RetCode: 0 Status: OK PackageFile: qvalue_2.43.0.tar.gz PackageFileSize: 2.646 MiB