Package: qvalue Version: 2.41.0 Command: /Library/Frameworks/R.framework/Resources/bin/R CMD build --keep-empty-dirs --no-resave-data qvalue StartedAt: 2025-09-29 18:22:35 -0400 (Mon, 29 Sep 2025) EndedAt: 2025-09-29 18:22:57 -0400 (Mon, 29 Sep 2025) EllapsedTime: 22.8 seconds RetCode: 0 Status: OK PackageFile: qvalue_2.41.0.tar.gz PackageFileSize: 2.644 MiB