Package: qusage Version: 2.43.0 Command: /home/biocbuild/R/R/bin/R CMD INSTALL qusage StartedAt: 2025-10-23 20:30:44 -0000 (Thu, 23 Oct 2025) EndedAt: 2025-10-23 20:30:56 -0000 (Thu, 23 Oct 2025) EllapsedTime: 11.6 seconds RetCode: 0 Status: OK