Package: qusage Version: 2.43.0 Command: /home/biocbuild/R/R/bin/R CMD build --keep-empty-dirs --no-resave-data qusage StartedAt: 2025-10-21 02:15:21 -0000 (Tue, 21 Oct 2025) EndedAt: 2025-10-21 02:24:23 -0000 (Tue, 21 Oct 2025) EllapsedTime: 541.3 seconds RetCode: 0 Status: OK PackageFile: qusage_2.43.0.tar.gz PackageFileSize: 9.655 MiB