Package: qusage Version: 2.43.0 Command: /home/biocbuild/bbs-3.22-bioc/R/bin/R CMD check --install=check:qusage.install-out.txt --library=/home/biocbuild/bbs-3.22-bioc/R/site-library --timings qusage_2.43.0.tar.gz StartedAt: 2025-10-14 03:32:42 -0400 (Tue, 14 Oct 2025) EndedAt: 2025-10-14 03:38:44 -0400 (Tue, 14 Oct 2025) EllapsedTime: 361.5 seconds RetCode: 0 Status: OK CheckDir: qusage.Rcheck Warnings: 0