Package: qusage Version: 2.45.0 Command: /home/biocbuild/bbs-3.23-bioc/R/bin/R CMD INSTALL qusage StartedAt: 2025-11-04 15:11:17 -0500 (Tue, 04 Nov 2025) EndedAt: 2025-11-04 15:11:26 -0500 (Tue, 04 Nov 2025) EllapsedTime: 9.0 seconds RetCode: 0 Status: OK