Package: qusage Version: 2.45.0 Command: /home/biocbuild/bbs-3.23-bioc/R/bin/R CMD check --install=check:qusage.install-out.txt --library=/home/biocbuild/bbs-3.23-bioc/R/site-library --timings qusage_2.45.0.tar.gz StartedAt: 2025-11-24 02:55:41 -0500 (Mon, 24 Nov 2025) EndedAt: 2025-11-24 03:01:55 -0500 (Mon, 24 Nov 2025) EllapsedTime: 373.7 seconds RetCode: 0 Status: OK CheckDir: qusage.Rcheck Warnings: 0