Package: qusage Version: 2.45.0 Command: /home/biocbuild/bbs-3.23-bioc/R/bin/R CMD build --keep-empty-dirs --no-resave-data qusage StartedAt: 2025-11-04 19:21:56 -0500 (Tue, 04 Nov 2025) EndedAt: 2025-11-04 19:26:45 -0500 (Tue, 04 Nov 2025) EllapsedTime: 288.4 seconds RetCode: 0 Status: OK PackageFile: qusage_2.45.0.tar.gz PackageFileSize: 9.648 MiB