Package: quantsmooth Version: 1.75.0 Command: chmod a+r quantsmooth -R && F:\biocbuild\bbs-3.22-bioc\R\bin\R.exe CMD build --keep-empty-dirs --no-resave-data quantsmooth StartedAt: 2025-08-14 22:33:12 -0400 (Thu, 14 Aug 2025) EndedAt: 2025-08-14 22:33:28 -0400 (Thu, 14 Aug 2025) EllapsedTime: 16.0 seconds RetCode: 0 Status: OK PackageFile: quantsmooth_1.75.0.tar.gz PackageFileSize: 230.2 KiB