Package: quantsmooth Version: 1.75.0 Command: rm -rf quantsmooth.buildbin-libdir && mkdir quantsmooth.buildbin-libdir && F:\biocbuild\bbs-3.22-bioc\R\bin\R.exe CMD INSTALL --build --library=quantsmooth.buildbin-libdir quantsmooth_1.75.0.tar.gz StartedAt: 2025-08-15 11:02:03 -0400 (Fri, 15 Aug 2025) EndedAt: 2025-08-15 11:02:21 -0400 (Fri, 15 Aug 2025) EllapsedTime: 18.5 seconds RetCode: 0 Status: OK PackageFile: quantsmooth_1.75.0.zip PackageFileSize: 315.5 KiB