Package: quantsmooth Version: 1.77.0 Command: /home/biocbuild/bbs-3.23-bioc/R/bin/R CMD INSTALL quantsmooth StartedAt: 2025-11-20 15:04:39 -0500 (Thu, 20 Nov 2025) EndedAt: 2025-11-20 15:04:45 -0500 (Thu, 20 Nov 2025) EllapsedTime: 6.6 seconds RetCode: 0 Status: OK