Package: quantsmooth Version: 1.77.0 Command: /home/biocbuild/bbs-3.23-bioc/R/bin/R CMD build --keep-empty-dirs --no-resave-data quantsmooth StartedAt: 2025-11-20 19:26:49 -0500 (Thu, 20 Nov 2025) EndedAt: 2025-11-20 19:27:00 -0500 (Thu, 20 Nov 2025) EllapsedTime: 11.0 seconds RetCode: 0 Status: OK PackageFile: quantsmooth_1.77.0.tar.gz PackageFileSize: 340.7 KiB