Package: quantro Version: 1.45.0 Command: /home/biocbuild/bbs-3.23-bioc/R/bin/R CMD INSTALL quantro StartedAt: 2025-10-31 16:00:11 -0400 (Fri, 31 Oct 2025) EndedAt: 2025-10-31 16:01:00 -0400 (Fri, 31 Oct 2025) EllapsedTime: 49.6 seconds RetCode: 0 Status: OK