Package: quantro Version: 1.45.0 Command: /home/biocbuild/bbs-3.23-bioc/R/bin/R CMD build --keep-empty-dirs --no-resave-data quantro StartedAt: 2025-10-31 19:36:33 -0400 (Fri, 31 Oct 2025) EndedAt: 2025-10-31 19:38:11 -0400 (Fri, 31 Oct 2025) EllapsedTime: 98.1 seconds RetCode: 0 Status: OK PackageFile: quantro_1.45.0.tar.gz PackageFileSize: 2.767 MiB