Package: quantro Version: 1.45.0 Command: /Library/Frameworks/R.framework/Resources/bin/R CMD INSTALL quantro StartedAt: 2025-11-20 15:45:19 -0500 (Thu, 20 Nov 2025) EndedAt: 2025-11-20 15:46:22 -0500 (Thu, 20 Nov 2025) EllapsedTime: 63.5 seconds RetCode: 0 Status: OK