Package: quantro Version: 1.45.0 Command: /Library/Frameworks/R.framework/Resources/bin/R CMD build --keep-empty-dirs --no-resave-data quantro StartedAt: 2025-11-20 18:18:26 -0500 (Thu, 20 Nov 2025) EndedAt: 2025-11-20 18:20:33 -0500 (Thu, 20 Nov 2025) EllapsedTime: 127.0 seconds RetCode: 0 Status: OK PackageFile: quantro_1.45.0.tar.gz PackageFileSize: 2.778 MiB