Package: quantro Version: 1.45.0 Command: rm -rf quantro.buildbin-libdir && mkdir quantro.buildbin-libdir && /Users/biocbuild/BBS/utils/build-universal.sh quantro_1.45.0.tar.gz /Library/Frameworks/R.framework/Resources/bin/R quantro.buildbin-libdir StartedAt: 2025-11-21 01:50:45 -0500 (Fri, 21 Nov 2025) EndedAt: 2025-11-21 01:51:53 -0500 (Fri, 21 Nov 2025) EllapsedTime: 68.2 seconds RetCode: 0 Status: OK PackageFile: quantro_1.45.0.tgz PackageFileSize: 3.131 MiB