Package: quantro Version: 1.43.0 Command: /Library/Frameworks/R.framework/Resources/bin/R CMD INSTALL quantro StartedAt: 2025-10-10 15:26:51 -0400 (Fri, 10 Oct 2025) EndedAt: 2025-10-10 15:27:11 -0400 (Fri, 10 Oct 2025) EllapsedTime: 19.9 seconds RetCode: 0 Status: OK