Package: quantro Version: 1.43.0 Command: rm -rf quantro.buildbin-libdir && mkdir quantro.buildbin-libdir && /Users/biocbuild/BBS/utils/build-universal.sh quantro_1.43.0.tar.gz /Library/Frameworks/R.framework/Resources/bin/R quantro.buildbin-libdir StartedAt: 2025-10-09 22:52:48 -0400 (Thu, 09 Oct 2025) EndedAt: 2025-10-09 22:53:10 -0400 (Thu, 09 Oct 2025) EllapsedTime: 21.5 seconds RetCode: 0 Status: OK PackageFile: quantro_1.43.0.tgz PackageFileSize: 3.133 MiB