Package: quantiseqr Version: 1.17.0 Command: /home/biocbuild/R/R/bin/R CMD INSTALL quantiseqr StartedAt: 2025-10-16 21:46:08 -0000 (Thu, 16 Oct 2025) EndedAt: 2025-10-16 21:46:38 -0000 (Thu, 16 Oct 2025) EllapsedTime: 30.3 seconds RetCode: 0 Status: OK