Package: quantiseqr Version: 1.17.0 Command: /home/biocbuild/R/R/bin/R CMD build --keep-empty-dirs --no-resave-data quantiseqr StartedAt: 2025-10-14 02:46:10 -0000 (Tue, 14 Oct 2025) EndedAt: 2025-10-14 02:47:47 -0000 (Tue, 14 Oct 2025) EllapsedTime: 97.1 seconds RetCode: 0 Status: OK PackageFile: quantiseqr_1.17.0.tar.gz PackageFileSize: 2.665 MiB