Package: quantiseqr Version: 1.17.0 Command: /home/biocbuild/bbs-3.22-bioc/R/bin/R CMD check --install=check:quantiseqr.install-out.txt --library=/home/biocbuild/bbs-3.22-bioc/R/site-library --timings quantiseqr_1.17.0.tar.gz StartedAt: 2025-10-11 03:27:00 -0400 (Sat, 11 Oct 2025) EndedAt: 2025-10-11 03:31:09 -0400 (Sat, 11 Oct 2025) EllapsedTime: 248.3 seconds RetCode: 0 Status: OK CheckDir: quantiseqr.Rcheck Warnings: 0