Package: quantiseqr Version: 1.19.0 Command: /home/biocbuild/bbs-3.23-bioc/R/bin/R CMD INSTALL quantiseqr StartedAt: 2025-11-07 15:31:51 -0500 (Fri, 07 Nov 2025) EndedAt: 2025-11-07 15:32:14 -0500 (Fri, 07 Nov 2025) EllapsedTime: 22.4 seconds RetCode: 0 Status: OK