Package: quantiseqr Version: 1.19.0 Command: /home/biocbuild/bbs-3.23-bioc/R/bin/R CMD check --install=check:quantiseqr.install-out.txt --library=/home/biocbuild/bbs-3.23-bioc/R/site-library --timings quantiseqr_1.19.0.tar.gz StartedAt: 2025-11-18 03:45:52 -0500 (Tue, 18 Nov 2025) EndedAt: 2025-11-18 03:53:08 -0500 (Tue, 18 Nov 2025) EllapsedTime: 435.5 seconds RetCode: 0 Status: OK CheckDir: quantiseqr.Rcheck Warnings: 0