Package: quantiseqr Version: 1.19.0 Command: /home/biocbuild/bbs-3.23-bioc/R/bin/R CMD build --keep-empty-dirs --no-resave-data quantiseqr StartedAt: 2025-11-07 19:22:31 -0500 (Fri, 07 Nov 2025) EndedAt: 2025-11-07 19:23:33 -0500 (Fri, 07 Nov 2025) EllapsedTime: 62.0 seconds RetCode: 0 Status: OK PackageFile: quantiseqr_1.19.0.tar.gz PackageFileSize: 3.603 MiB