Package: qsvaR Version: 1.15.0 Command: /home/biocbuild/bbs-3.23-bioc/R/bin/R CMD INSTALL qsvaR StartedAt: 2025-11-20 15:28:42 -0500 (Thu, 20 Nov 2025) EndedAt: 2025-11-20 15:29:13 -0500 (Thu, 20 Nov 2025) EllapsedTime: 31.2 seconds RetCode: 0 Status: OK