Package: qsvaR Version: 1.15.0 Command: /home/biocbuild/bbs-3.23-bioc/R/bin/R CMD build --keep-empty-dirs --no-resave-data qsvaR StartedAt: 2025-11-20 19:26:35 -0500 (Thu, 20 Nov 2025) EndedAt: 2025-11-20 19:33:21 -0500 (Thu, 20 Nov 2025) EllapsedTime: 406.6 seconds RetCode: 0 Status: OK PackageFile: qsvaR_1.15.0.tar.gz PackageFileSize: 3.351 MiB