Package: qsvaR Version: 1.15.0 Command: /Library/Frameworks/R.framework/Resources/bin/R CMD INSTALL qsvaR StartedAt: 2025-11-20 15:30:56 -0500 (Thu, 20 Nov 2025) EndedAt: 2025-11-20 15:31:37 -0500 (Thu, 20 Nov 2025) EllapsedTime: 41.7 seconds RetCode: 0 Status: OK