Package: qsvaR Version: 1.15.0 Command: /Library/Frameworks/R.framework/Resources/bin/R CMD build --keep-empty-dirs --no-resave-data qsvaR StartedAt: 2025-11-20 18:18:08 -0500 (Thu, 20 Nov 2025) EndedAt: 2025-11-20 18:25:01 -0500 (Thu, 20 Nov 2025) EllapsedTime: 413.0 seconds RetCode: 0 Status: OK PackageFile: qsvaR_1.15.0.tar.gz PackageFileSize: 3.383 MiB